BEGIN:VCALENDAR
VERSION:2.0
PRODID:-//Stratis iCal API//FR
CALSCALE:GREGORIAN
X-WR-CALNAME:Forum des métiers de la couture et du textile durable
BEGIN:VEVENT
UID:agenda_bis-335367
SUMMARY:Forum des métiers de la couture et du textile durable
DESCRIPTION:
DTSTAMP:20260409T073900Z
DTSTART:20260519T070000Z
DTEND:20260519T100000Z
STATUS:CONFIRMED
SEQUENCE:17
BEGIN:VALARM
TRIGGER:-PT30M
DESCRIPTION:Forum des métiers de la couture et du textile durable
ACTION:DISPLAY
END:VALARM
END:VEVENT
END:VCALENDAR