BEGIN:VCALENDAR
VERSION:2.0
PRODID:-//Stratis iCal API//FR
CALSCALE:GREGORIAN
X-WR-CALNAME:Forum : Une Formation, Un Emploi
BEGIN:VEVENT
UID:agenda_bis-338420
SUMMARY:Forum : Une Formation  Un Emploi
DESCRIPTION:2ème forum organisé par GRETA Val-de-Marne et la Cité des métiers du Val-de-Marne.  Un événement qui vous offre l'opportunité de découvrir de nombreuses solutions pour booster votre avenir professionnel !
DTSTAMP:20260414T074400Z
DTSTART:20260416T120000Z
DTEND:20260416T150000Z
STATUS:CONFIRMED
SEQUENCE:15
BEGIN:VALARM
TRIGGER:-PT30M
DESCRIPTION:Forum : Une Formation  Un Emploi
ACTION:DISPLAY
END:VALARM
END:VEVENT
END:VCALENDAR