BEGIN:VCALENDAR
VERSION:2.0
PRODID:-//Stratis iCal API//FR
CALSCALE:GREGORIAN
X-WR-CALNAME:Forum Alternance
BEGIN:VEVENT
UID:agenda_bis-338423
SUMMARY:Forum Alternance
DESCRIPTION:
DTSTAMP:20260414T093100Z
DTSTART:20260423T120000Z
DTEND:20260423T160000Z
STATUS:CONFIRMED
SEQUENCE:14
BEGIN:VALARM
TRIGGER:-PT30M
DESCRIPTION:Forum Alternance
ACTION:DISPLAY
END:VALARM
END:VEVENT
END:VCALENDAR