BEGIN:VCALENDAR
VERSION:2.0
PRODID:-//Stratis iCal API//FR
CALSCALE:GREGORIAN
X-WR-CALNAME:Job dating jeunesse
BEGIN:VEVENT
UID:agenda_bis-338831
SUMMARY:Job dating jeunesse
DESCRIPTION:Une après-midi conviviale dédiée à l’emploi organisée par service municipal de la jeunesse (SMJ)  en collaboration avec la mission locale Bièvre Val-de-Marne et le service insertion de la ville.
DTSTAMP:20260415T075300Z
DTSTART:20260506T110000Z
DTEND:20260506T163000Z
STATUS:CONFIRMED
SEQUENCE:17
BEGIN:VALARM
TRIGGER:-PT30M
DESCRIPTION:Job dating jeunesse
ACTION:DISPLAY
END:VALARM
END:VEVENT
END:VCALENDAR