BEGIN:VCALENDAR
VERSION:2.0
PRODID:-//Stratis iCal API//FR
CALSCALE:GREGORIAN
X-WR-CALNAME:Good Luck, Have Fun, Don't Die
BEGIN:VEVENT
UID:event-339221
SUMMARY:Good Luck  Have Fun  Don't Die
DESCRIPTION:Après 10 ans d’absence au grand écran  le réalisateur américain Gore Verbinski (Le Pirate des Caraïbes  The Ring et Rango) expérimente la science-fiction postapocalyptique et rocambolesque. Un manifeste anti-IA porté par un nouveau héros exubérant  incarné par l’oscarisé Sam Rockwel.
DTSTAMP:20260416T121700Z
DTSTART:20260507T183000Z
DTEND:20260506T220000Z
STATUS:CONFIRMED
SEQUENCE:11
BEGIN:VALARM
TRIGGER:-PT30M
DESCRIPTION:Good Luck  Have Fun  Don't Die
ACTION:DISPLAY
END:VALARM
END:VEVENT
END:VCALENDAR