BEGIN:VCALENDAR
VERSION:2.0
PRODID:-//Stratis iCal API//FR
CALSCALE:GREGORIAN
X-WR-CALNAME:Conseil territorial juin 2026
BEGIN:VEVENT
UID:event-339629
SUMMARY:Conseil territorial juin 2026
DESCRIPTION:
DTSTAMP:20260417T080400Z
DTSTART:20260630T170000Z
DTEND:20260630T200000Z
STATUS:CONFIRMED
SEQUENCE:10
BEGIN:VALARM
TRIGGER:-PT30M
DESCRIPTION:Conseil territorial juin 2026
ACTION:DISPLAY
END:VALARM
END:VEVENT
END:VCALENDAR