BEGIN:VCALENDAR
VERSION:2.0
PRODID:-//Stratis iCal API//FR
CALSCALE:GREGORIAN
X-WR-CALNAME:Photomontage
BEGIN:VEVENT
UID:event-340780
SUMMARY:Photomontage
DESCRIPTION:
DTSTAMP:20260420T080100Z
DTSTART:20260422T220831Z
DTEND:20260422T220831Z
STATUS:CONFIRMED
SEQUENCE:21
BEGIN:VALARM
TRIGGER:-PT30M
DESCRIPTION:Photomontage
ACTION:DISPLAY
END:VALARM
END:VEVENT
END:VCALENDAR