BEGIN:VCALENDAR
VERSION:2.0
PRODID:-//Stratis iCal API//FR
CALSCALE:GREGORIAN
X-WR-CALNAME:Bricol'oiseaux
BEGIN:VEVENT
UID:event-342229
SUMMARY:Bricol'oiseaux
DESCRIPTION:Repartez avec votre passereau préféré
DTSTAMP:20260424T090000Z
DTSTART:20260620T080000Z
DTEND:20260620T110000Z
STATUS:CONFIRMED
SEQUENCE:8
BEGIN:VALARM
TRIGGER:-PT30M
DESCRIPTION:Bricol'oiseaux
ACTION:DISPLAY
END:VALARM
END:VEVENT
END:VCALENDAR