BEGIN:VCALENDAR
VERSION:2.0
PRODID:-//Stratis iCal API//FR
CALSCALE:GREGORIAN
X-WR-CALNAME:Oiseaux modelés en papier
BEGIN:VEVENT
UID:event-342231
SUMMARY:Oiseaux modelés en papier
DESCRIPTION:Création d'une décoration originale
DTSTAMP:20260424T092100Z
DTSTART:20260620T123000Z
DTEND:20260620T150000Z
STATUS:CONFIRMED
SEQUENCE:6
BEGIN:VALARM
TRIGGER:-PT30M
DESCRIPTION:Oiseaux modelés en papier
ACTION:DISPLAY
END:VALARM
END:VEVENT
END:VCALENDAR