BEGIN:VCALENDAR
VERSION:2.0
PRODID:-//Stratis iCal API//FR
CALSCALE:GREGORIAN
X-WR-CALNAME:Chants d'oiseaux
BEGIN:VEVENT
UID:event-342232
SUMMARY:Chants d'oiseaux
DESCRIPTION:Et si on prenait un moment pour tendre l'oreille ?
DTSTAMP:20260424T093000Z
DTSTART:20260621T070000Z
DTEND:20260621T093000Z
STATUS:CONFIRMED
SEQUENCE:8
BEGIN:VALARM
TRIGGER:-PT30M
DESCRIPTION:Chants d'oiseaux
ACTION:DISPLAY
END:VALARM
END:VEVENT
END:VCALENDAR