BEGIN:VCALENDAR
VERSION:2.0
PRODID:-//Stratis iCal API//FR
CALSCALE:GREGORIAN
X-WR-CALNAME:On en pince pour les petites bêtes !
BEGIN:VEVENT
UID:event-342233
SUMMARY:On en pince pour les petites bêtes !
DESCRIPTION:Le soleil chauffe  la saison des petites bêtes bat son plein !
DTSTAMP:20260424T094200Z
DTSTART:20260621T070000Z
DTEND:20260621T093000Z
STATUS:CONFIRMED
SEQUENCE:6
BEGIN:VALARM
TRIGGER:-PT30M
DESCRIPTION:On en pince pour les petites bêtes !
ACTION:DISPLAY
END:VALARM
END:VEVENT
END:VCALENDAR